BEGIN:VCALENDAR
VERSION:2.0
PRODID:-//Sala Koncertowa PSM w Jastrzębiu-Zdroju - ECPv6.14.2//NONSGML v1.0//EN
CALSCALE:GREGORIAN
METHOD:PUBLISH
X-WR-CALNAME:Sala Koncertowa PSM w Jastrzębiu-Zdroju
X-ORIGINAL-URL:https://psmjastrzebie.pl
X-WR-CALDESC:Wydarzenia dla Sala Koncertowa PSM w Jastrzębiu-Zdroju
REFRESH-INTERVAL;VALUE=DURATION:PT1H
X-Robots-Tag:noindex
X-PUBLISHED-TTL:PT1H
BEGIN:VTIMEZONE
TZID:Europe/Warsaw
BEGIN:DAYLIGHT
TZOFFSETFROM:+0100
TZOFFSETTO:+0200
TZNAME:CEST
DTSTART:20230326T010000
END:DAYLIGHT
BEGIN:STANDARD
TZOFFSETFROM:+0200
TZOFFSETTO:+0100
TZNAME:CET
DTSTART:20231029T010000
END:STANDARD
END:VTIMEZONE
BEGIN:VEVENT
DTSTART;TZID=Europe/Warsaw:20230420T160000
DTEND;TZID=Europe/Warsaw:20230420T170000
DTSTAMP:20260421T153501
CREATED:20230404T143829Z
LAST-MODIFIED:20230404T153614Z
UID:16736-1682006400-1682010000@psmjastrzebie.pl
SUMMARY:Mój pierwszy koncert- Popis klasy I\, cyklu 6 letniego
DESCRIPTION:Serdecznie zapraszamy na popis uczniów klasy I\, cyklu 6 letniego\, który odbędzie się 20.04.2023\, godz. 16:00 w sali koncertowej naszej szkoły. Wstęp bezpłatny.
URL:https://psmjastrzebie.pl/wydarzenie/moj-pierwszy-koncert-popis-klasy-i-cyklu-6-letniego/
LOCATION:Sala Koncertowa PSM w Jastrzębiu-Zdroju\, 13a Tadeusza Kościuszki\, Jastrzębie-Zdrój\, śląskie\, 44-330\, Poland
ATTACH;FMTTYPE=image/jpeg:https://psmjastrzebie.pl/wp-content/uploads/2023/04/Moj-pierwszy-koncert-20.04.2023-16.00.jpg
ORGANIZER;CN="Pa%C5%84stwowa Szko%C5%82a Muzyczna I i II stopnia im. prof. J. %C5%9Awidra w Jastrz%C4%99biu-Zdroju":MAILTO:salakoncertowa@psmjastrzebie.pl
END:VEVENT
BEGIN:VEVENT
DTSTART;TZID=Europe/Warsaw:20230420T173000
DTEND;TZID=Europe/Warsaw:20230420T180000
DTSTAMP:20260421T153501
CREATED:20230404T145350Z
LAST-MODIFIED:20230404T153546Z
UID:16739-1682011800-1682013600@psmjastrzebie.pl
SUMMARY:Mój pierwszy koncert- Popis klasy I\, cyklu 4 letniego
DESCRIPTION:Serdecznie zapraszamy na popis uczniów klasy I\, cyklu 4 letniego\, który odbędzie się 20.04.2023\, godz. 17:30 w sali koncertowej naszej szkoły. Wstęp bezpłatny.
URL:https://psmjastrzebie.pl/wydarzenie/moj-pierwszy-koncert-popis-klasy-i-cyklu-4-letniego/
LOCATION:Sala Koncertowa PSM w Jastrzębiu-Zdroju\, 13a Tadeusza Kościuszki\, Jastrzębie-Zdrój\, śląskie\, 44-330\, Poland
ATTACH;FMTTYPE=image/jpeg:https://psmjastrzebie.pl/wp-content/uploads/2023/04/20.04.2023-Moj-pierwszy-koncet-17.30.jpg
ORGANIZER;CN="Pa%C5%84stwowa Szko%C5%82a Muzyczna I i II stopnia im. prof. J. %C5%9Awidra w Jastrz%C4%99biu-Zdroju":MAILTO:salakoncertowa@psmjastrzebie.pl
END:VEVENT
END:VCALENDAR