BEGIN:VCALENDAR
VERSION:2.0
PRODID:-//Sala Koncertowa PSM w Jastrzębiu-Zdroju - ECPv6.14.2//NONSGML v1.0//EN
CALSCALE:GREGORIAN
METHOD:PUBLISH
X-ORIGINAL-URL:https://psmjastrzebie.pl
X-WR-CALDESC:Wydarzenia dla Sala Koncertowa PSM w Jastrzębiu-Zdroju
REFRESH-INTERVAL;VALUE=DURATION:PT1H
X-Robots-Tag:noindex
X-PUBLISHED-TTL:PT1H
BEGIN:VTIMEZONE
TZID:Europe/Warsaw
BEGIN:DAYLIGHT
TZOFFSETFROM:+0100
TZOFFSETTO:+0200
TZNAME:CEST
DTSTART:20240331T010000
END:DAYLIGHT
BEGIN:STANDARD
TZOFFSETFROM:+0200
TZOFFSETTO:+0100
TZNAME:CET
DTSTART:20241027T010000
END:STANDARD
END:VTIMEZONE
BEGIN:VEVENT
DTSTART;TZID=Europe/Warsaw:20240104T180000
DTEND;TZID=Europe/Warsaw:20240104T190000
DTSTAMP:20260421T152810
CREATED:20231207T161039Z
LAST-MODIFIED:20231207T161039Z
UID:17937-1704391200-1704394800@psmjastrzebie.pl
SUMMARY:Charytatywny Koncert Noworoczny
DESCRIPTION:Koncert\, który odbędzie się 4 stycznia  o godzinie 18:00 w naszej sali połączony jest z warsztatami artystycznymi dla mieszkanek Domu Społecznego w Pielgrzymowicach (które odbędą się 21 grudnia).  \nPani Dominika\, wspaniała flecistka wraz artystką Agnieszką Król pomogły dziewczynom stworzyć piękne obrazy o tematyce świątecznej\, które będą mogli Państwo podziwiać w trakcie wydarzenia. \nZdjęcia z wydarzenia\, które będą również obecne na wystawie wykonał Roberto Caldarella. \nDzięki charytatywnej zbiórce udało się zakupić dla każdej z dziewczyn piękny prezent w postaci przeróżnych\, wymarzonych kosmetyków. \nWszystkie dziewczyny\, które uczestniczyły w warsztatach będą również obecne podczas koncertu i otworzą wernisaż ich prac. Serdecznie zapraszamy na to urocze wydarzenie!
URL:https://psmjastrzebie.pl/wydarzenie/charytatywny-koncert-noworoczny/
LOCATION:Sala Koncertowa PSM w Jastrzębiu-Zdroju\, 13a Tadeusza Kościuszki\, Jastrzębie-Zdrój\, śląskie\, 44-330\, Poland
ATTACH;FMTTYPE=image/jpeg:https://psmjastrzebie.pl/wp-content/uploads/2023/12/Plakaty-STYCZEN-2024-1.jpg
ORGANIZER;CN="Pa%C5%84stwowa Szko%C5%82a Muzyczna I i II stopnia im. prof. J. %C5%9Awidra w Jastrz%C4%99biu-Zdroju":MAILTO:salakoncertowa@psmjastrzebie.pl
END:VEVENT
END:VCALENDAR