BEGIN:VCALENDAR
VERSION:2.0
PRODID:-//Sala Koncertowa PSM w Jastrzębiu-Zdroju - ECPv6.14.2//NONSGML v1.0//EN
CALSCALE:GREGORIAN
METHOD:PUBLISH
X-WR-CALNAME:Sala Koncertowa PSM w Jastrzębiu-Zdroju
X-ORIGINAL-URL:https://psmjastrzebie.pl
X-WR-CALDESC:Wydarzenia dla Sala Koncertowa PSM w Jastrzębiu-Zdroju
REFRESH-INTERVAL;VALUE=DURATION:PT1H
X-Robots-Tag:noindex
X-PUBLISHED-TTL:PT1H
BEGIN:VTIMEZONE
TZID:Europe/Warsaw
BEGIN:DAYLIGHT
TZOFFSETFROM:+0100
TZOFFSETTO:+0200
TZNAME:CEST
DTSTART:20240331T010000
END:DAYLIGHT
BEGIN:STANDARD
TZOFFSETFROM:+0200
TZOFFSETTO:+0100
TZNAME:CET
DTSTART:20241027T010000
END:STANDARD
END:VTIMEZONE
BEGIN:VEVENT
DTSTART;TZID=Europe/Warsaw:20240301T180000
DTEND;TZID=Europe/Warsaw:20240301T193000
DTSTAMP:20260421T154317
CREATED:20240201T205955Z
LAST-MODIFIED:20240212T212903Z
UID:18011-1709316000-1709321400@psmjastrzebie.pl
SUMMARY:Recital fortepianowy | Rachel Naomi Kudo
DESCRIPTION:Zapraszamy na koncert Rachel Naomi Kudo\, który odbędzie się 01.03.2024r. o godz.18:00. \nWstęp bezpłatny\, wejściówki do pobrania w portierni Szkoły Muzycznej w Jastrzębiu-Zdroju. \n  \nRachel Naomi Kudo\, amerykańska pianistka\, zdobyła pierwszą nagrodę na Międzynarodowym Konkursie Johannesa Sebastiana Bacha w Lipsku. Jej grę opisuje się jako “uczuciową\, odważną i doskonałą” (Lübecker Nachrichten)\, a ona sama jest “zachwycającą” artystką o “najwyższym roszczeniu artystycznym\, która demonstruje perfekcję techniki i precyzję aż po najmniejszy detal motywiczny” (Die Rheinpfalz). \n  \nPo debiucie z orkiestrami symfonicznymi w Chicago i Fort Worth\, Rachel występowała jako solistka i kameralistka na festiwalach muzycznych na całym świecie. Jej koncerty miały miejsce m.in. na Bachfest w Lipsku\, w Królewskim Zamku w Warszawie\, Salle Cortot w Paryżu\, Musikverein w Wiedniu\, Muzeum Sztuki w Tel Awiwie\, Międzynarodowym Festiwalu Chopinowskim w Dusznikach-Zdroju w Polsce\, Tivoli International Festival w Danii\, Bergen International Festival w Norwegii\, John F. Kennedy Center for the Performing Arts w Waszyngtonie\, D.C.\, a także w Alice Tully Hall\, David Geffen Hall i Carnegie Hall’s Weill Recital Hall w Nowym Jorku. \n  \nRachel otrzymała nagrodę Gilmore Young Artist\, była Laureatką Davidson Fellow w Davidson Institute of Talent Development oraz otrzymała stypendia od National YoungArts Foundation i Rohm Music Foundation. Wygrała wiele prestiżowych konkursów\, m.in. U.S. National Chopin Competition w Miami\, a także zdobyła dyplom finalistki 15. Międzynarodowego Konkursu Chopinowskiego w Warszawie. \n  \nUrodzona w Waszyngtonie\, D.C.\, jako córka japońsko-koreańskich rodziców\, Rachel rozpoczęła naukę u Emilio del Rosario w Music Institute of Chicago. Po spędzeniu dzieciństwa w Japonii wróciła do Chicago\, gdzie kontynuowała swoją muzyczną edukację\, grając w zespołach kameralnych i orkiestrze szkolnej. Występowała również w programie From the Top na antenie NPR oraz studiowała u Kum-Sing Lee w Vancouver w Kanadzie. \n  \nRachel Naomi Kudo\, amerykańska pianistka\, zdobyła tytuły licencjata i magistra sztuki na The Juilliard School. Otrzymała wiele nagród\, w tym Nagrodę Artura Rubinsteina\, Nagrodę Chopina\, Nagrodę Sanders/Tel Aviv Art Museum\, Stypendium Ryoichi Sasakawa Young Leaders Fellowship oraz dwukrotnie zdobyła pierwszą nagrodę na Międzynarodowym Konkursie Pianistycznym Gina Bachauer. \n  \nJej nauczycielami byli Yoheved Kaplinsky i Joseph Kalichstein. Następnie kontynuowała naukę na Mannes College of Music pod kierunkiem Richarda Goode’a\, a także uzyskała stopień Doktora Sztuki Muzycznej pod opieką Gilberta Kalisha na Stony Brook University. Rachel miała również przywilej studiowania u Leona Fleishera w Peabody Institute of Johns Hopkins University. \n  \nW trakcie swojej kariery uczestniczyła w mistrzowskich kursach m.in. u Roberta Levina\, Emanuela Ax’a i Sir Andrása Schiffa w ramach Carnegie Hall’s Professional Training Workshops. Jej horyzonty muzyczne poszerzyły się dzięki udziałowi w festiwalach takich jak Aspen Music Festival and School\, Juilliard ChamberFest\, International Musicians Seminar Prussia Cove\, Music@Menlo oraz warsztatach Perlman Music Program’s Chamber Music Workshop i Chamber Music Society of Lincoln Center’s “Chamber Music Encounters”. \n  \nRachel wierzy w moc przekształcającą muzyki\, którą chce dzielić z jak najszerszą publicznością\, aby wspierać zaangażowanie kulturowe i ludzkie połączenia. Jako edukatorka z pasją prowadzi mistrzowskie kursy na całym świecie. Była również gospodarzem transmisji na 18. Międzynarodowym Konkursie Chopinowskim w Warszawie oraz U.S. National Chopin and Cliburn Junior International Piano Competitions. W lutym 2021 roku w Virtual Special Event dla The Gilmore\, Rachel wykonała światową premierę Suite à l’ancienne autorstwa Marc-André Hamelina\, którą zleciła z funduszy Gilmore Piano Festival. \n  \nMuzyka Rachel jest dostępna na wszystkich platformach streamingowych oraz na jej kanale na YouTube: www.YouTube.com/RachelNaomiKudo 1234. \n 
URL:https://psmjastrzebie.pl/wydarzenie/recital-fortepianowy-rachel-naomi-kudo/
LOCATION:Sala Koncertowa PSM w Jastrzębiu-Zdroju\, 13a Tadeusza Kościuszki\, Jastrzębie-Zdrój\, śląskie\, 44-330\, Poland
ATTACH;FMTTYPE=image/jpeg:https://psmjastrzebie.pl/wp-content/uploads/2024/02/Plakaty-MARZEC-2024.jpg
ORGANIZER;CN="Pa%C5%84stwowa Szko%C5%82a Muzyczna I i II stopnia im. prof. J. %C5%9Awidra w Jastrz%C4%99biu-Zdroju":MAILTO:salakoncertowa@psmjastrzebie.pl
END:VEVENT
END:VCALENDAR