BEGIN:VCALENDAR
VERSION:2.0
PRODID:-//Sala Koncertowa PSM w Jastrzębiu-Zdroju - ECPv6.14.2//NONSGML v1.0//EN
CALSCALE:GREGORIAN
METHOD:PUBLISH
X-WR-CALNAME:Sala Koncertowa PSM w Jastrzębiu-Zdroju
X-ORIGINAL-URL:https://psmjastrzebie.pl
X-WR-CALDESC:Wydarzenia dla Sala Koncertowa PSM w Jastrzębiu-Zdroju
REFRESH-INTERVAL;VALUE=DURATION:PT1H
X-Robots-Tag:noindex
X-PUBLISHED-TTL:PT1H
BEGIN:VTIMEZONE
TZID:Europe/Warsaw
BEGIN:DAYLIGHT
TZOFFSETFROM:+0100
TZOFFSETTO:+0200
TZNAME:CEST
DTSTART:20240331T010000
END:DAYLIGHT
BEGIN:STANDARD
TZOFFSETFROM:+0200
TZOFFSETTO:+0100
TZNAME:CET
DTSTART:20241027T010000
END:STANDARD
END:VTIMEZONE
BEGIN:VEVENT
DTSTART;TZID=Europe/Warsaw:20240307T180000
DTEND;TZID=Europe/Warsaw:20240307T193000
DTSTAMP:20260421T153539
CREATED:20240207T095450Z
LAST-MODIFIED:20240228T141349Z
UID:18017-1709834400-1709839800@psmjastrzebie.pl
SUMMARY:Koncert z Okazji Dnia Kobiet TANGO SHOW
DESCRIPTION:Prezydent Miasta Jastrzębie-Zdrój Anna Hetman zaprasza na koncert z okazji Dnia Kobiet TANGO SHOW \nWykonawcy: Zespół „Colours of Tango” w składzie: Oscar Ernesto Ovejero (wokal\, cajon)\, Aneta Salwińska (harfa) i Konrad Salwiński (akordeon\, bandoneon) oraz tancerze: Vitalina i Michał Shevchenko\, Gracja Bryś-Kołodziejczyk i Rafał Kołodziejczyk. \nProwadzenie Michał Shevchenko i Konrad Salwiński \nWstęp bezpłatny/ darmowe wejściówki do pobrania w Urzędzie Miasta w Jastrzębiu-Zdroju. \n 
URL:https://psmjastrzebie.pl/wydarzenie/koncert-z-okazji-dnia-kobiet-tango-show/
LOCATION:Sala Koncertowa PSM w Jastrzębiu-Zdroju\, 13a Tadeusza Kościuszki\, Jastrzębie-Zdrój\, śląskie\, 44-330\, Poland
ATTACH;FMTTYPE=image/jpeg:https://psmjastrzebie.pl/wp-content/uploads/2024/02/plakat_TangoShow.jpg
END:VEVENT
END:VCALENDAR