BEGIN:VCALENDAR
VERSION:2.0
PRODID:-//Sala Koncertowa PSM w Jastrzębiu-Zdroju - ECPv6.14.2//NONSGML v1.0//EN
CALSCALE:GREGORIAN
METHOD:PUBLISH
X-WR-CALNAME:Sala Koncertowa PSM w Jastrzębiu-Zdroju
X-ORIGINAL-URL:https://psmjastrzebie.pl
X-WR-CALDESC:Wydarzenia dla Sala Koncertowa PSM w Jastrzębiu-Zdroju
REFRESH-INTERVAL;VALUE=DURATION:PT1H
X-Robots-Tag:noindex
X-PUBLISHED-TTL:PT1H
BEGIN:VTIMEZONE
TZID:Europe/Warsaw
BEGIN:DAYLIGHT
TZOFFSETFROM:+0100
TZOFFSETTO:+0200
TZNAME:CEST
DTSTART:20240331T010000
END:DAYLIGHT
BEGIN:STANDARD
TZOFFSETFROM:+0200
TZOFFSETTO:+0100
TZNAME:CET
DTSTART:20241027T010000
END:STANDARD
END:VTIMEZONE
BEGIN:VEVENT
DTSTART;TZID=Europe/Warsaw:20240311T170000
DTEND;TZID=Europe/Warsaw:20240311T180000
DTSTAMP:20260421T153539
CREATED:20240228T144010Z
LAST-MODIFIED:20240229T112839Z
UID:18038-1710176400-1710180000@psmjastrzebie.pl
SUMMARY:Koncert Laureatów VI Międzynarodowego Konkursu Fletowego 2023
DESCRIPTION:Zapraszamy serdecznie na Koncert Laureatów VI Międzynarodowego Konkursu Fletowego 2023\, który odbędzie się 11.03.2024 r.\n \nZagrają dla Państwa:\n\n  \n1.Dziri Kamila – Grand Prix z II grupy wiekowej \nGabriel Faure- Sicilienne op.78 \n2.Wruszak Julia – III miejsce w II grupie wiekowej \nRob Ares – „Diptyque”\,  3 \n3.Kawka Liliana – II miejsce w II grupie wiekowej \nGabriel Faure- Sicilienne op.78 \n4.Pyśk Barbara – III miejsce w II grupie wiekowej \nHedwige Chretien – „Vision” \n5.Kluczyńska Kaja I miejsce w II grupie wiekowej \nJohannes Dnjon \,\,Le Chant Du Vent”  i   \,\,Le Follet” ze zbioru  Etudes De Salon – utwory na \n6.Antoni Weilandt – I miejsce w II grupie wiekowej \nPascal Proust – Prelude et Danse \n7.Trio fletowe:  Antoni Weilandt\, Wiktoria Pabisiak\, Wiktoria Synowiec – I miejsce w kategorii Zespoły kameralne \nJohann Friedrich Reichardt – Vivace Scherzando\nRafał Nicze – Jabłuszko \n8.Hiacynta Wiszniewska – I miejsce w III grupie wiekowej \nConcertino op. 107 C.Chaminade \n9.Schulz Aleksandra – I miejsce w IV grupie wiekowej \nGeorges Hüe  – Fantazja \n\n \n Wstęp bezpłatny/ Bez wejściówek
URL:https://psmjastrzebie.pl/wydarzenie/koncert-laureatow-vi-miedzynarodowego-konkursu-fletowego-2023/
LOCATION:Sala Koncertowa PSM w Jastrzębiu-Zdroju\, 13a Tadeusza Kościuszki\, Jastrzębie-Zdrój\, śląskie\, 44-330\, Poland
ATTACH;FMTTYPE=image/jpeg:https://psmjastrzebie.pl/wp-content/uploads/2024/02/Plakt-koncert-Lauratow-11.03.2024.jpg
ORGANIZER;CN="Pa%C5%84stwowa Szko%C5%82a Muzyczna I i II stopnia im. prof. J. %C5%9Awidra w Jastrz%C4%99biu-Zdroju":MAILTO:salakoncertowa@psmjastrzebie.pl
END:VEVENT
END:VCALENDAR