BEGIN:VCALENDAR
VERSION:2.0
PRODID:-//Sala Koncertowa PSM w Jastrzębiu-Zdroju - ECPv6.14.2//NONSGML v1.0//EN
CALSCALE:GREGORIAN
METHOD:PUBLISH
X-WR-CALNAME:Sala Koncertowa PSM w Jastrzębiu-Zdroju
X-ORIGINAL-URL:https://psmjastrzebie.pl
X-WR-CALDESC:Wydarzenia dla Sala Koncertowa PSM w Jastrzębiu-Zdroju
REFRESH-INTERVAL;VALUE=DURATION:PT1H
X-Robots-Tag:noindex
X-PUBLISHED-TTL:PT1H
BEGIN:VTIMEZONE
TZID:Europe/Warsaw
BEGIN:DAYLIGHT
TZOFFSETFROM:+0100
TZOFFSETTO:+0200
TZNAME:CEST
DTSTART:20250330T010000
END:DAYLIGHT
BEGIN:STANDARD
TZOFFSETFROM:+0200
TZOFFSETTO:+0100
TZNAME:CET
DTSTART:20251026T010000
END:STANDARD
END:VTIMEZONE
BEGIN:VEVENT
DTSTART;TZID=Europe/Warsaw:20250320T100000
DTEND;TZID=Europe/Warsaw:20250320T104500
DTSTAMP:20260420T123132
CREATED:20250313T182708Z
LAST-MODIFIED:20250313T182833Z
UID:18712-1742464800-1742467500@psmjastrzebie.pl
SUMMARY:Koncert bajek i muzyki filmowej dla przedszkolaków i klas I-III
DESCRIPTION:Dla grup obwiązują zapisy tel. 324763705 \nDla dziecka z opiekunem wejściówki dostępne na evently.pl \n  \nZe względu na bezpłatny charakter wydarzenia uprzejmie prosimy o przybycie i zajęcie miejsc najpóźniej 5 minut przed rozpoczęciem koncertu. Po tym czasie niewykorzystane miejsca zostaną udostępnione osobom oczekującym\, co może skutkować brakiem gwarancji wejścia dla spóźnionych posiadaczy biletów. Dziękujemy za Państwa zrozumienie i współpracę.
URL:https://psmjastrzebie.pl/wydarzenie/koncert-bajek-i-muzyki-filmowej-dla-przedszkolakow-i-klas-i-iii/
LOCATION:Sala Koncertowa PSM w Jastrzębiu-Zdroju\, 13a Tadeusza Kościuszki\, Jastrzębie-Zdrój\, śląskie\, 44-330\, Poland
ATTACH;FMTTYPE=image/jpeg:https://psmjastrzebie.pl/wp-content/uploads/2025/03/Plakaty-Marzec-2025-32.jpg
ORGANIZER;CN="Pa%C5%84stwowa Szko%C5%82a Muzyczna I i II stopnia im. prof. J. %C5%9Awidra w Jastrz%C4%99biu-Zdroju":MAILTO:salakoncertowa@psmjastrzebie.pl
END:VEVENT
BEGIN:VEVENT
DTSTART;TZID=Europe/Warsaw:20250320T113000
DTEND;TZID=Europe/Warsaw:20250320T121500
DTSTAMP:20260420T123132
CREATED:20250313T183246Z
LAST-MODIFIED:20250313T183246Z
UID:18716-1742470200-1742472900@psmjastrzebie.pl
SUMMARY:Koncert bajek i muzyki filmowej dla przedszkolaków i klas I-III
DESCRIPTION:Dla grup obwiązują zapisy tel. 324763705 \nDla dziecka z opiekunem wejściówki dostępne na evently.pl \nZe względu na bezpłatny charakter wydarzenia uprzejmie prosimy o przybycie i zajęcie miejsc najpóźniej 5 minut przed rozpoczęciem koncertu. Po tym czasie niewykorzystane miejsca zostaną udostępnione osobom oczekującym\, co może skutkować brakiem gwarancji wejścia dla spóźnionych posiadaczy biletów. Dziękujemy za Państwa zrozumienie i współpracę.
URL:https://psmjastrzebie.pl/wydarzenie/koncert-bajek-i-muzyki-filmowej-dla-przedszkolakow-i-klas-i-iii-2/
LOCATION:Sala Koncertowa PSM w Jastrzębiu-Zdroju\, 13a Tadeusza Kościuszki\, Jastrzębie-Zdrój\, śląskie\, 44-330\, Poland
ATTACH;FMTTYPE=image/jpeg:https://psmjastrzebie.pl/wp-content/uploads/2025/03/Plakaty-Marzec-2025-33.jpg
ORGANIZER;CN="Pa%C5%84stwowa Szko%C5%82a Muzyczna I i II stopnia im. prof. J. %C5%9Awidra w Jastrz%C4%99biu-Zdroju":MAILTO:salakoncertowa@psmjastrzebie.pl
END:VEVENT
END:VCALENDAR