BEGIN:VCALENDAR
VERSION:2.0
PRODID:-//Sala Koncertowa PSM w Jastrzębiu-Zdroju - ECPv6.14.2//NONSGML v1.0//EN
CALSCALE:GREGORIAN
METHOD:PUBLISH
X-WR-CALNAME:Sala Koncertowa PSM w Jastrzębiu-Zdroju
X-ORIGINAL-URL:https://psmjastrzebie.pl
X-WR-CALDESC:Wydarzenia dla Sala Koncertowa PSM w Jastrzębiu-Zdroju
REFRESH-INTERVAL;VALUE=DURATION:PT1H
X-Robots-Tag:noindex
X-PUBLISHED-TTL:PT1H
BEGIN:VTIMEZONE
TZID:Europe/Warsaw
BEGIN:DAYLIGHT
TZOFFSETFROM:+0100
TZOFFSETTO:+0200
TZNAME:CEST
DTSTART:20230326T010000
END:DAYLIGHT
BEGIN:STANDARD
TZOFFSETFROM:+0200
TZOFFSETTO:+0100
TZNAME:CET
DTSTART:20231029T010000
END:STANDARD
END:VTIMEZONE
BEGIN:VEVENT
DTSTART;TZID=Europe/Warsaw:20230422T170000
DTEND;TZID=Europe/Warsaw:20230422T180000
DTSTAMP:20260421T135354
CREATED:20230404T150154Z
LAST-MODIFIED:20230404T150154Z
UID:16745-1682182800-1682186400@psmjastrzebie.pl
SUMMARY:Koncert pianistyczny
DESCRIPTION:Zapraszamy na KONCERT PIANISTYCZNY w wykonaniu UCZNIÓW KLASY DYPLOMOWEJ: \nKrakowczyk Malwina – z klasy fortepianu mgr Anny Gimpel-Jarosz \nŁukasik Dominika – z klasy fortepianu mgra Marka Pali \nToman Viktoria – z klasy fortepianu mgra Marka Pali \nUrgoł Jakub – z klasy fortepianu dr hab. Anny Miech \nWęgrzyk Kamila – z klasy fortepianu mgr Anny Gimpel-Jarosz \n  \nW programie: Fr. Chopin\, F. Liszt\, F. Loewe\, M. Moszkowski\, E. Neupert\, S. Prokofiew \nnkonncerko
URL:https://psmjastrzebie.pl/wydarzenie/koncert-pianistyczny/
LOCATION:Sala Koncertowa PSM w Jastrzębiu-Zdroju\, 13a Tadeusza Kościuszki\, Jastrzębie-Zdrój\, śląskie\, 44-330\, Poland
ATTACH;FMTTYPE=image/jpeg:https://psmjastrzebie.pl/wp-content/uploads/2023/04/4.jpg
ORGANIZER;CN="Pa%C5%84stwowa Szko%C5%82a Muzyczna I i II stopnia im. prof. J. %C5%9Awidra w Jastrz%C4%99biu-Zdroju":MAILTO:salakoncertowa@psmjastrzebie.pl
END:VEVENT
END:VCALENDAR