BEGIN:VCALENDAR
VERSION:2.0
PRODID:-//Sala Koncertowa PSM w Jastrzębiu-Zdroju - ECPv6.14.2//NONSGML v1.0//EN
CALSCALE:GREGORIAN
METHOD:PUBLISH
X-ORIGINAL-URL:https://psmjastrzebie.pl
X-WR-CALDESC:Wydarzenia dla Sala Koncertowa PSM w Jastrzębiu-Zdroju
REFRESH-INTERVAL;VALUE=DURATION:PT1H
X-Robots-Tag:noindex
X-PUBLISHED-TTL:PT1H
BEGIN:VTIMEZONE
TZID:Europe/Warsaw
BEGIN:DAYLIGHT
TZOFFSETFROM:+0100
TZOFFSETTO:+0200
TZNAME:CEST
DTSTART:20240331T010000
END:DAYLIGHT
BEGIN:STANDARD
TZOFFSETFROM:+0200
TZOFFSETTO:+0100
TZNAME:CET
DTSTART:20241027T010000
END:STANDARD
END:VTIMEZONE
BEGIN:VEVENT
DTSTART;TZID=Europe/Warsaw:20240406T180000
DTEND;TZID=Europe/Warsaw:20240406T190000
DTSTAMP:20260419T171512
CREATED:20240319T140530Z
LAST-MODIFIED:20240319T163016Z
UID:18068-1712426400-1712430000@psmjastrzebie.pl
SUMMARY:Koncert Wielkanocny
DESCRIPTION:Zapraszamy na Koncert Wielkanocny współorganizowany z Międzynarodowym Towarzystwem Muzyki Polskiej Im. I. J. Paderewskiego w Warszawie. \nWystąpią dla Państwa \nsoliści: \nAleksandra Dzieża\, Adam Muszyński\, Filip Kauch \noraz Orkiestra Kameralna MAXIME pod batutą Andrzeja Mandryki. \nW programie: \nF.X. Richter: Symfonia G-dur VB19 na smyczki \nL. v. Beethoven: Koncert fortepianowy C-Dur op. 15 \nF. Chopin: Koncert fortepianowy f-moll op. 21 \nC. Nielsen: Suita na smyczki op. 1 \n  \nBezpłatne wejściówki do pobrania w sekretariacie Szkoły Muzycznej w Jastrzębiu-Zdroju (Poniedziałek-Piątek\, 8:00-18:00) \nZe względu na niewiele miejsc parkingowych dostępnych w centrum prosimy o wcześniejsze przybycie. Osoby  z wejściówkami które spóźnią się na koncert\, nie zostaną wpuszczone (jeśli nie będzie już dostępnych miejsc). \n 
URL:https://psmjastrzebie.pl/wydarzenie/koncert-wielkanocny/
LOCATION:Sala Koncertowa PSM w Jastrzębiu-Zdroju\, 13a Tadeusza Kościuszki\, Jastrzębie-Zdrój\, śląskie\, 44-330\, Poland
ATTACH;FMTTYPE=image/jpeg:https://psmjastrzebie.pl/wp-content/uploads/2024/03/Plakaty-KWIECIEN-2024-1.jpg
ORGANIZER;CN="Pa%C5%84stwowa Szko%C5%82a Muzyczna I i II stopnia im. prof. J. %C5%9Awidra w Jastrz%C4%99biu-Zdroju":MAILTO:salakoncertowa@psmjastrzebie.pl
END:VEVENT
BEGIN:VEVENT
DTSTART;TZID=Europe/Warsaw:20240416T180000
DTEND;TZID=Europe/Warsaw:20240416T193000
DTSTAMP:20260419T171512
CREATED:20240326T160833Z
LAST-MODIFIED:20240326T171059Z
UID:18084-1713290400-1713295800@psmjastrzebie.pl
SUMMARY:„PONAD SZKLANY SUFIT - Innowacje kompozytorek we współczesnej muzyce (elektroakustycznej)"
DESCRIPTION:Projekt zakłada upowszechnianie sztuki kobiet i prezentację prawykonań kompozytorek z krajów partnerskich sojuszu Transform4Europe\, m.in. : Polski\, Niemiec i Estonii – Daarien Jack\, Marii Vihmand Eskiis oraz Lei Gabral. Celem było nowe ujęcie muzyki fortepianowej i kameralnej poprzez stworzenie „hybrydy” elektroakustycznej – połączenie muzyki fortepianu z akrylowo-szklanymi skrzypcami elektronicznymi. Zestawienie tego z medytacyjną solową muzyką fortepianową inspiruje do nowej percepcji muzyki. \nProjekt został dofinansowany ze środków przyznanych w konkursie „Swoboda badań” w ramach Inicjatywy Doskonałości Badawczej Uniwersytetu Śląskiego. \ndr Agata Hołdyk – adiunkt w Instytucie Sztuk Muzycznych Uniwersytetu Śląskiego w Katowicach. Laureatka wielu konkursów ogólnopolskich i międzynarodowych\, m.in. V miejsca na XXI Międzynarodowym Konkursie Pianistycznym w Marsali\, I miejsca w III Śląskim Konkursie Pianistycznym w Zabrzu oraz II miejsca na VI Międzynarodowym Konkursie Pianistycznym im. M. Magina w Paryżu. Stypendystka Ministra Kultury i Sztuki.\nEdukację pianistyczną pobierała u znakomitych pianistów\, pedagogów\, m.in.: mgr Marii Wróbel Zegalskiej\, prof. Andrzeja Jasińskiego\, prof. Reginy Strokosz-Michalak\, prof. Alexandra Satza\, czy też profesora Jontschy Bayrova.\nUkończyła także studia podyplomowe na kierunku instrumentalistyka w zakresie gry na fortepianie w klasie prof. Andrzeja Jasińskiego. W 2015 roku wydała swą solową płytę „Clara & Robert Schumann – Piano Works”. W 2022 roku ukazała się jej kolejna płyta „Kobiety 4 kultur”\, na której znajdują się utwory kobiet kompozytorek z Polski\, Litwy\, Estonii i Niemiec.\nOd 2009 roku współtworzy duet fortepianowy AHHA PIANO DUO wraz z Aleksandrą Hałat. Pianistki wydały dwie płyty „Our World of 4 hands” (2016) oraz „Illusions” z utworami Darka Janusa (fusion muzyki klasycznej i jazzowej – 2023).\nCzłonkini jury konkursów pianistycznych w Polsce i Niemczech. Stale koncertuje jako solistka i kameralistka w kraju i za granicą (Niemcy\, Austria\, Francja\, Włochy\, Czechy\, Słowacja\, Estonia\, Litwa\, Ukraina\, Anglia\, Szkocja) \nDaarien Jack – kompozytorka; ur. w Katowicach. Pochodzi z rodziny mieszanej polsko-nigeryjskiej. Edukację muzyczną rozpoczęła w klasie skrzypiec.\nDaarien Jack studiowała kompozycję w Bazylei\, Berlinie i Dreźnie\, doskonaląc swoje umiejętności pod kierunkiem m.in. Rolanda Mosera\, Wilfrieda Kratschmara\, Aleksandra Lasonia\, Stanisława Moryty\, Marka Stachowskiego\, Jonathana Harvey’a\, Wojciecha Kilara i Thomasa Kesslera.\nZdobywczyni I nagrody na Ogólnopolskim Konkursie Kompozytorskim „Patri Patriae” w Katowicach (1998). W 2000 otrzymała Grand Prix na Ogólnopolskim Konkursie Kompozytorskim „Crescendo” w Tarnowie\, a w 2001 – I nagrodę oraz nagrodę specjalną dla młodego kompozytora na Międzynarodowym Konkursie Muzyki Elektroakustycznej „Musica Nova 2001” w Pradze.\nStypendystka Fundacji Lyra (Zurych)\, Thyll–Dürr (Zurych) oraz Vera & Oscar Ritter Stiftung (Hamburg).\nKompozycje Daarien Jack znalazły się w programie polskich festiwali: „Warszawska Jesień”\, Forum Muzyki Współczesnej i i Śląskich Dni Muzyki Współczesnej. Były emitowane w Radio Katowice\, Radio Vltava\, Co-op Radio w Vancouver (Kanada\,) i WDR Radio (Niemcy).\nObecnie kompozytorka tworzy głównie muzykę w stylu trip-hop / electronica nawiązuje do twórczości takich wykonawców\, jak np. Massive Attack\, Björk czy Portishead. Interesuje ją muzyka w świecie wirtualnym oraz koncerty w Metaverse.\nDaarien Jack była członkinią Koła Młodych Związku Kompozytorów Polskich. Obecnie należy do Beatclub\, zrzeszającego producentów muzycznych. \n  \nBezpłatne wejściówki do pobrania w Szkole Muzycznej w Jastrzębiu-Zdroju. \nZe względu na niewiele miejsc parkingowych dostępnych w centrum prosimy o wcześniejsze przybycie. Osoby  z wejściówkami które spóźnią się na koncert\, nie zostaną wpuszczone (jeśli nie będzie już dostępnych miejsc).
URL:https://psmjastrzebie.pl/wydarzenie/ponad-szklany-sufit-innowacje-kompozytorek-we-wspolczesnej-muzyce-elektroakustycznej/
LOCATION:Sala Koncertowa PSM w Jastrzębiu-Zdroju\, 13a Tadeusza Kościuszki\, Jastrzębie-Zdrój\, śląskie\, 44-330\, Poland
ATTACH;FMTTYPE=image/jpeg:https://psmjastrzebie.pl/wp-content/uploads/2024/03/16.04.2024-Ponad-Szklany-Sufit.jpg
ORGANIZER;CN="Pa%C5%84stwowa Szko%C5%82a Muzyczna I i II stopnia im. prof. J. %C5%9Awidra w Jastrz%C4%99biu-Zdroju":MAILTO:salakoncertowa@psmjastrzebie.pl
END:VEVENT
BEGIN:VEVENT
DTSTART;TZID=Europe/Warsaw:20240727T180000
DTEND;TZID=Europe/Warsaw:20240727T190000
DTSTAMP:20260419T171512
CREATED:20240722T105643Z
LAST-MODIFIED:20240722T105643Z
UID:18275-1722103200-1722106800@psmjastrzebie.pl
SUMMARY:BAROKOWO | AMISARTE
DESCRIPTION:
URL:https://psmjastrzebie.pl/wydarzenie/barokowo-amisarte/
LOCATION:Sala Koncertowa PSM w Jastrzębiu-Zdroju\, 13a Tadeusza Kościuszki\, Jastrzębie-Zdrój\, śląskie\, 44-330\, Poland
ATTACH;FMTTYPE=image/jpeg:https://psmjastrzebie.pl/wp-content/uploads/2024/07/2024.07.27-Barokowo-Amisarte.jpg
ORGANIZER;CN="Pa%C5%84stwowa Szko%C5%82a Muzyczna I i II stopnia im. prof. J. %C5%9Awidra w Jastrz%C4%99biu-Zdroju":MAILTO:salakoncertowa@psmjastrzebie.pl
END:VEVENT
BEGIN:VEVENT
DTSTART;TZID=Europe/Warsaw:20240920T183000
DTEND;TZID=Europe/Warsaw:20240920T200000
DTSTAMP:20260419T171512
CREATED:20240818T174303Z
LAST-MODIFIED:20240818T175804Z
UID:18304-1726857000-1726862400@psmjastrzebie.pl
SUMMARY:GERSHWINIADA
DESCRIPTION:Zapraszamy na recital fortepianowy Michała Kryworuczko pt. „GERSHWINIADA „\n  \nProgram (90 min):\nGeorge Gershwin (1898-1937) \nAeolian Duo Art   PIANO ROLLS  : \n-“I Was So Young\, You Were So Beautiful” (1919) \n– „Swanee” (1919) \n– „My One and Only” (1928) \n-“Sweet and Lowdown” (1926) \n-“S’Wonderful”  \nGeorge Gershwin-“Rhapsody in Blue for piano solo”   \nGeorge Gershwin-“An American in Paris” / Amerykanin w Paryżu-transkrypcja na fortepian solo- Michał Kryworuczko \nGeorge Gershwin/Earl Wild (1915-2010)  \nSeven Virtuoso Etudes based on Gershwin Songs \n-“Liza” \n-“Somebody Loves Me” \n-“The Man I Love” \n-“Lady Be Good” \n-“Embraceable You” \n-“I Got Rhythm” \n-“Fascinating Rhythm” \nGeorge Gershwin/Earl Wild- Grande Fantasy on Opera “Porgy and Bess” \nBilety dostępne w Szkole muzycznej w Jastrzębiu-Zdroju oraz na evently.pl \n  \nMichał Kryworuczko\,\nurodził się w Mariupolu na Ukrainie\, jednak od urodzenia zamieszkał z rodziną w Polsce. Był kształcony przez wybitnych pedagogów – Marię Serafin w Bytomiu do roku 2002 oraz Zbigniewa Raubo w ZPSM im. Karola Szymanowskiego w Katowicach (2002-2008). Pobierał także nauki u pianistów takich jak: Andrzej Jasiński\, Joaquin Soriano\, Tamas Ungar\, Dina Joffe\, Karl-Heinz Kammerling oraz Konstantin Scherbakov. W 2008 został Finalistą Konkursu Eurowizji  Młodych Muzyków w Warszawie\, a następnie w 2009 jako jedyny zakwalifikowany Polski uczestnik wystąpił w Międzynarodowym Konkursie Muzycznym w Genewie. Ponadto jest laureatem II nagrody w Śląskim Konkursie Pianistycznym w Zabrzu\, oraz wielu Ogólnopolskich konkursów takich jak Konkurs Chopinowski w Szafarni (I nagroda) oraz Konkursu Narodowego Instytutu im. F. Chopina w Warszawie (VI nagroda). Od 2009 laureat studenckich konkursach organizowanych przez firmę fortepianów „Fazioli” w Londynie\, oraz dyplomant Brant Piano Competition w Birmingham. Trzykrotny Stypendysta Prezydenta Miasta Bytomia\, solista licznych koncertów symfonicznych\, koncertował m.in. z Filharmonikami Śląskimi\, Polską Orkiestrą Radiową\, Akademicką Orkiestrą Symfoniczną w Warszawie\, oraz Orkiestrą Opery Śląskiej pod batutą Tadeusza Strugały. Wielokrotnie dawał solowe recitale w ramach festiwali w wielu miastach Polski i za granicą. Ponadto Michał Kryworuczko jest regularnym gościem „Salonów Poezji i Muzyki Anny Dymnej”. Od 2013 dawał recitale w ramach festiwalu Beethovenowskiego w Głogówku i Prudniku. \nOd 2009 roku kształcił się pod kierunkiem prof. Rustema Hayroudinoff’a-(ucznia legendarnego Lwa Naumowa) w Royal Academy of Music w Londynie\, gdzie w 2014 zdobył tytuły Bachelor of Music z wyróżnieniem oraz Master of Arts\, otrzymując Lloyd Hartley Piano Prize 2014 za najlepszy recital dyplomowy\, a także najwyższy stopień przyznawany przez Królewską Akademię Muzyczną w dziedzinie wykonawstwa -Dip RAM. \nMichał Kryworuczko nie stroni od wprowadzania do swojego repertuaru mniej znanych jednak genialnych dzieł\, które ze względu na trudność lub zapomnienie nie mogły być dotychczas dostępne dla słuchaczy. Jego wykonania muzyki Leopolda Godowskiego\, Siergieja Ljapunowa\, Milija Bałakiriewa cieszyły się sporym powodzeniem wśród szerokiej publiczności\, dzięki łatwości komunikacji pianisty ze słuchaczem\, bez względu na stopień trudności muzyki. W ramach aktualnego projektu wykonania wszystkich  Lisztowskich transkrypcji 9 Symfonii Beethovena została wykonana na festiwalu Beethovenowskim w Prudniku transkrypcja jego 5 Symfonii. W kwietniu 2018 jako solista wziął udział w produkcji teatralnej M. Znanieckiego „Czekając na Chopina”. Od roku 2016 do 2020 współpracował również z Operą Śląską jako pianista- korepetytor\, a od 2018 pracuje w  Ogólnokształcącej Szkole Muzycznej im. F. Chopina w Bytomiu.
URL:https://psmjastrzebie.pl/wydarzenie/gershwiniada/
LOCATION:Sala Koncertowa PSM w Jastrzębiu-Zdroju\, 13a Tadeusza Kościuszki\, Jastrzębie-Zdrój\, śląskie\, 44-330\, Poland
ATTACH;FMTTYPE=image/jpeg:https://psmjastrzebie.pl/wp-content/uploads/2024/08/20.09.2024-Gershwiniada.jpg
ORGANIZER;CN="Pa%C5%84stwowa Szko%C5%82a Muzyczna I i II stopnia im. prof. J. %C5%9Awidra w Jastrz%C4%99biu-Zdroju":MAILTO:salakoncertowa@psmjastrzebie.pl
END:VEVENT
END:VCALENDAR