BEGIN:VCALENDAR
VERSION:2.0
PRODID:-//Sala Koncertowa PSM w Jastrzębiu-Zdroju - ECPv6.14.2//NONSGML v1.0//EN
CALSCALE:GREGORIAN
METHOD:PUBLISH
X-WR-CALNAME:Sala Koncertowa PSM w Jastrzębiu-Zdroju
X-ORIGINAL-URL:https://psmjastrzebie.pl
X-WR-CALDESC:Wydarzenia dla Sala Koncertowa PSM w Jastrzębiu-Zdroju
REFRESH-INTERVAL;VALUE=DURATION:PT1H
X-Robots-Tag:noindex
X-PUBLISHED-TTL:PT1H
BEGIN:VTIMEZONE
TZID:Europe/Warsaw
BEGIN:DAYLIGHT
TZOFFSETFROM:+0100
TZOFFSETTO:+0200
TZNAME:CEST
DTSTART:20230326T010000
END:DAYLIGHT
BEGIN:STANDARD
TZOFFSETFROM:+0200
TZOFFSETTO:+0100
TZNAME:CET
DTSTART:20231029T010000
END:STANDARD
END:VTIMEZONE
BEGIN:VEVENT
DTSTART;TZID=Europe/Warsaw:20230414T130000
DTEND;TZID=Europe/Warsaw:20230414T170000
DTSTAMP:20260420T203240
CREATED:20230411T115034Z
LAST-MODIFIED:20230411T115034Z
UID:16981-1681477200-1681491600@psmjastrzebie.pl
SUMMARY:Warsztaty saksofonowe
DESCRIPTION:Zapraszamy na warsztaty saksofonowe z mgr. Zbigniewem Kaletą. \nWstęp wolny
URL:https://psmjastrzebie.pl/wydarzenie/warsztaty-saksofonowe/
LOCATION:Sala Koncertowa PSM w Jastrzębiu-Zdroju\, 13a Tadeusza Kościuszki\, Jastrzębie-Zdrój\, śląskie\, 44-330\, Poland
ATTACH;FMTTYPE=image/jpeg:https://psmjastrzebie.pl/wp-content/uploads/2023/04/14.04.23-Warsztaty-saksofonowe.jpg
ORGANIZER;CN="Pa%C5%84stwowa Szko%C5%82a Muzyczna I i II stopnia im. prof. J. %C5%9Awidra w Jastrz%C4%99biu-Zdroju":MAILTO:salakoncertowa@psmjastrzebie.pl
END:VEVENT
BEGIN:VEVENT
DTSTART;TZID=Europe/Warsaw:20230422T093000
DTEND;TZID=Europe/Warsaw:20230422T170000
DTSTAMP:20260420T203240
CREATED:20230404T145841Z
LAST-MODIFIED:20230404T145841Z
UID:16742-1682155800-1682182800@psmjastrzebie.pl
SUMMARY:Warsztaty z Profesorem Mirosławem Herbowskim
DESCRIPTION:Zapraszamy wszystkich uczniów klas fortepianu\, nauczycieli\, rodziców oraz wszystkich zainteresowanych na warsztaty pianistyczne w dniu 22.04.2023 9:30-17:00\, które poprowadzi znakomity pedagog i pianista\, wykładowca Akademii Muzycznej w Krakowie- prof. Mirosław Herbowski.
URL:https://psmjastrzebie.pl/wydarzenie/warsztaty-z-profesorem-miroslawem-herbowskim/
LOCATION:Sala Koncertowa PSM w Jastrzębiu-Zdroju\, 13a Tadeusza Kościuszki\, Jastrzębie-Zdrój\, śląskie\, 44-330\, Poland
ATTACH;FMTTYPE=image/jpeg:https://psmjastrzebie.pl/wp-content/uploads/2023/04/Plakaty-kwiecien-czerwiec-2023.jpg
ORGANIZER;CN="Pa%C5%84stwowa Szko%C5%82a Muzyczna I i II stopnia im. prof. J. %C5%9Awidra w Jastrz%C4%99biu-Zdroju":MAILTO:salakoncertowa@psmjastrzebie.pl
END:VEVENT
END:VCALENDAR